BEGIN:VCALENDAR
VERSION:2.0
PRODID:-//Sinisterbasslines - ECPv6.3.3.1//NONSGML v1.0//EN
CALSCALE:GREGORIAN
METHOD:PUBLISH
X-ORIGINAL-URL:https://www.sinisterbasslines.com
X-WR-CALDESC:Veranstaltungen für Sinisterbasslines
REFRESH-INTERVAL;VALUE=DURATION:PT1H
X-Robots-Tag:noindex
X-PUBLISHED-TTL:PT1H
BEGIN:VTIMEZONE
TZID:Europe/Berlin
BEGIN:DAYLIGHT
TZOFFSETFROM:+0100
TZOFFSETTO:+0200
TZNAME:CEST
DTSTART:20240331T010000
END:DAYLIGHT
BEGIN:STANDARD
TZOFFSETFROM:+0200
TZOFFSETTO:+0100
TZNAME:CET
DTSTART:20241027T010000
END:STANDARD
TZID:UTC
BEGIN:STANDARD
TZOFFSETFROM:+0000
TZOFFSETTO:+0000
TZNAME:UTC
DTSTART:20230101T000000
END:STANDARD
END:VTIMEZONE
BEGIN:VEVENT
DTSTART;TZID=Europe/Berlin:20240106T220000
DTEND;TZID=Europe/Berlin:20240107T060000
DTSTAMP:20260421T122337
CREATED:20231026T153805Z
LAST-MODIFIED:20231212T125232Z
UID:21524-1704578400-1704607200@www.sinisterbasslines.com
SUMMARY:The Conquest
DESCRIPTION:The conquest of the Sinister Basslines! \nWe are happy to announce our second Event:\nThe Conquest\nA wide variety of Sound is awaiting you\nSuch as:\nHardtechno; Industrial Techno; Schranz; Hardstyle; Rawstyle; Hardcore and so on…\nWe‘d love to welcome you to The continuation of our journey\nand we‘ll make sure to make you move! \nEntry only with correct dress code.
URL:https://www.sinisterbasslines.com/event/the-conquest/
LOCATION:Kulturprojekt Allach\, Ludwigsfelder Str. 15\, München\, Bayern\, 80999\, Deutschland
ATTACH;FMTTYPE=image/jpeg:https://www.sinisterbasslines.com/wp-content/uploads/2023/10/conquest.jpg
END:VEVENT
BEGIN:VEVENT
DTSTART;TZID=UTC:20231014T220000
DTEND;TZID=UTC:20231015T060000
DTSTAMP:20260421T122337
CREATED:20200428T112335Z
LAST-MODIFIED:20230915T154348Z
UID:1196-1697320800-1697349600@www.sinisterbasslines.com
SUMMARY:The Arrival
DESCRIPTION:The arrival of the Sinister Basslines! \nWe are happy to announce our first Event:\nThe Arrvial\nA wide variety of Sound is awaiting you\nSuch as:\nHardtechno; Industrial Techno; Schranz; Hardstyle; Rawstyle; Hardcore and so on…\nWe‘d love to welcome you to The start of our journey\nand we‘ll make sure to make you move! \nEntry only with correct dress code.
URL:https://www.sinisterbasslines.com/event/the-arrival/
LOCATION:Kulturprojekt Allach\, Ludwigsfelder Str. 15\, München\, Bayern\, 80999\, Deutschland
ATTACH;FMTTYPE=image/jpeg:https://www.sinisterbasslines.com/wp-content/uploads/2020/04/The-Arrival.jpg
END:VEVENT
END:VCALENDAR